BEGIN:VCALENDAR
VERSION:2.0
PRODID:-//Washington Contract Firefighters Association - ECPv4.8.1//NONSGML v1.0//EN
CALSCALE:GREGORIAN
METHOD:PUBLISH
X-WR-CALNAME:Washington Contract Firefighters Association
X-ORIGINAL-URL:https://www.wcfafirefighters.org
X-WR-CALDESC:Events for Washington Contract Firefighters Association
BEGIN:VEVENT
DTSTART;TZID=America/Los_Angeles:20240421T080000
DTEND;TZID=America/Los_Angeles:20240421T120000
DTSTAMP:20260423T080949
CREATED:20240503T140104Z
LAST-MODIFIED:20250101T070106Z
UID:92326-1713686400-1713700800@www.wcfafirefighters.org
SUMMARY:L-180 BASIC LEADERSHIP Spokane City FD\, 1515 1st Ave\, Spokane
DESCRIPTION:Basic LeadershipSign up for class!Location: Spokane City FD\, 1515 1st Ave\, SpokaneClick here to pay for classesInstructor: Todd GravesContact Name : Danielle SimsContact Phone : 425-239-6613Contact Email : dsimswcfa@yahoo.com \n
URL:https://www.wcfafirefighters.org/event/L-180-BASIC-LEADERSHIP-1337-1/
CATEGORIES:Training
END:VEVENT
END:VCALENDAR