BEGIN:VCALENDAR
VERSION:2.0
PRODID:-//Washington Contract Firefighters Association - ECPv4.8.1//NONSGML v1.0//EN
CALSCALE:GREGORIAN
METHOD:PUBLISH
X-WR-CALNAME:Washington Contract Firefighters Association
X-ORIGINAL-URL:https://www.wcfafirefighters.org
X-WR-CALDESC:Events for Washington Contract Firefighters Association
BEGIN:VEVENT
DTSTART;TZID=America/Los_Angeles:20250609T080000
DTEND;TZID=America/Los_Angeles:20250609T170000
DTSTAMP:20260423T032856
CREATED:20250613T080106Z
LAST-MODIFIED:20260101T070106Z
UID:92649-1749456000-1749488400@www.wcfafirefighters.org
SUMMARY:L-180 BASIC LEADERSHIP Station 17\, Malaga\, WA
DESCRIPTION:Students missed days of the FFT2 so they only get credit for S-190 and L-180 and the Field Day.Sign up for class!Location: Station 17\, Malaga\, WAClick here to pay for classesInstructor: Jacob BurkhartContact Name : Danielle SimsContact Phone : 425-239-6613Contact Email : dsimswcfa@gmail.com \n
URL:https://www.wcfafirefighters.org/event/L-180-BASIC-LEADERSHIP-1416-1/
CATEGORIES:Training
END:VEVENT
END:VCALENDAR