BEGIN:VCALENDAR
VERSION:2.0
PRODID:-//Washington Contract Firefighters Association - ECPv4.8.1//NONSGML v1.0//EN
CALSCALE:GREGORIAN
METHOD:PUBLISH
X-WR-CALNAME:Washington Contract Firefighters Association
X-ORIGINAL-URL:https://www.wcfafirefighters.org
X-WR-CALDESC:Events for Washington Contract Firefighters Association
BEGIN:VEVENT
DTSTART;TZID=America/Los_Angeles:20190614T080000
DTEND;TZID=America/Los_Angeles:20190614T170000
DTSTAMP:20260422T035930
CREATED:20190623T160104Z
LAST-MODIFIED:20200101T070104Z
UID:91009-1560499200-1560531600@www.wcfafirefighters.org
SUMMARY:L-180 BASIC LEADERSHIP Chelan FD\, St. 11\, 206 Easy Street\, Wenatchee\, WA.
DESCRIPTION:Basic LeadershipSign up for class!Location: Chelan FD\, St. 11\, 206 Easy Street\, Wenatchee\, WA.Click here to pay for classesInstructor: Todd GravesContact Name : Danielle SimsContact Phone : 425-239-6613Contact Email : dsimswcfa@yahoo.com \n
URL:https://www.wcfafirefighters.org/event/L-180-BASIC-LEADERSHIP-922-1/
CATEGORIES:Training
END:VEVENT
END:VCALENDAR