BEGIN:VCALENDAR
VERSION:2.0
PRODID:-//Washington Contract Firefighters Association - ECPv4.8.1//NONSGML v1.0//EN
CALSCALE:GREGORIAN
METHOD:PUBLISH
X-WR-CALNAME:Washington Contract Firefighters Association
X-ORIGINAL-URL:https://www.wcfafirefighters.org
X-WR-CALDESC:Events for Washington Contract Firefighters Association
BEGIN:VEVENT
DTSTART;TZID=America/Los_Angeles:20210410T080000
DTEND;TZID=America/Los_Angeles:20210410T130000
DTSTAMP:20260421T081608
CREATED:20210314T110101Z
LAST-MODIFIED:20220101T070102Z
UID:91492-1618041600-1618059600@www.wcfafirefighters.org
SUMMARY:RT-130 Annual Refresher Rains Trout Farm\, 122 Hunter Mt. Road\, Pateros
DESCRIPTION:Annual Fireline Safety Refresher. Masks Required\, bring work gloves for shelter deployment. Must be symptom free to attend. Payment is required within 48 hours or you will be dropped from the class.Sign up for class!Location: Rains Trout Farm\, 122 Hunter Mt. Road\, PaterosClick here to pay for classesInstructor: Dave RainsContact Name : Danielle SimsContact Phone : 425-239-6613Contact Email : dsimswcfa@yahoo.com \n
URL:https://www.wcfafirefighters.org/event/RT-130-Annual-Refresher-1034-1/
CATEGORIES:Training
END:VEVENT
END:VCALENDAR