BEGIN:VCALENDAR
VERSION:2.0
PRODID:-//Washington Contract Firefighters Association - ECPv4.8.1//NONSGML v1.0//EN
CALSCALE:GREGORIAN
METHOD:PUBLISH
X-WR-CALNAME:Washington Contract Firefighters Association
X-ORIGINAL-URL:https://www.wcfafirefighters.org
X-WR-CALDESC:Events for Washington Contract Firefighters Association
BEGIN:VEVENT
DTSTART;TZID=America/Los_Angeles:20230622T080000
DTEND;TZID=America/Los_Angeles:20230622T130000
DTSTAMP:20260423T111727
CREATED:20230622T210104Z
LAST-MODIFIED:20240101T070105Z
UID:92128-1687420800-1687438800@www.wcfafirefighters.org
SUMMARY:RT-130 Annual Refresher Rains Trout Farm\, 122 Hunter Mt. Rd\, Pateros
DESCRIPTION:Annual Fireline Safety RefresherSign up for class!Location: Rains Trout Farm\, 122 Hunter Mt. Rd\, PaterosClick here to pay for classesInstructor: Dave RainsContact Name : Danielle SimsContact Phone : 425-239-6613Contact Email : dsimswcfa@yahoo.com \n
URL:https://www.wcfafirefighters.org/event/RT-130-Annual-Refresher-1269-1/
CATEGORIES:Training
END:VEVENT
END:VCALENDAR