BEGIN:VCALENDAR
VERSION:2.0
PRODID:-//Washington Contract Firefighters Association - ECPv4.8.1//NONSGML v1.0//EN
CALSCALE:GREGORIAN
METHOD:PUBLISH
X-WR-CALNAME:Washington Contract Firefighters Association
X-ORIGINAL-URL:https://www.wcfafirefighters.org
X-WR-CALDESC:Events for Washington Contract Firefighters Association
BEGIN:VEVENT
DTSTART;TZID=America/Los_Angeles:20230715T080000
DTEND;TZID=America/Los_Angeles:20230715T130000
DTSTAMP:20260423T093218
CREATED:20230704T190105Z
LAST-MODIFIED:20240101T070105Z
UID:92130-1689408000-1689426000@www.wcfafirefighters.org
SUMMARY:RT-130 Annual Refresher Okanogan City Fire Station\, 235 Oak Street\, Okanog
DESCRIPTION:Annual Fireline Safety Refresher.  Classroom location is being worked out. Probably at the Okanogan Fire Station. We will notify you of the exact location soon.Sign up for class!Location: Okanogan City Fire Station\, 235 Oak Street\, OkanogClick here to pay for classesInstructor: Charlie CurtisContact Name : Danielle SimsContact Phone : 425-239-6613Contact Email : dsimswcfa@yahoo.com \n
URL:https://www.wcfafirefighters.org/event/RT-130-Annual-Refresher-1271-1/
CATEGORIES:Training
END:VEVENT
END:VCALENDAR