BEGIN:VCALENDAR
VERSION:2.0
PRODID:-//Washington Contract Firefighters Association - ECPv4.8.1//NONSGML v1.0//EN
CALSCALE:GREGORIAN
METHOD:PUBLISH
X-WR-CALNAME:Washington Contract Firefighters Association
X-ORIGINAL-URL:https://www.wcfafirefighters.org
X-WR-CALDESC:Events for Washington Contract Firefighters Association
BEGIN:VEVENT
DTSTART;TZID=America/Los_Angeles:20240310T080000
DTEND;TZID=America/Los_Angeles:20240310T130000
DTSTAMP:20260423T014921
CREATED:20240310T110102Z
LAST-MODIFIED:20250101T070101Z
UID:92245-1710057600-1710075600@www.wcfafirefighters.org
SUMMARY:RT-130 Annual Refresher Spokane City Fire Station 4\, 1515 W. 1st Ave.
DESCRIPTION:Annual Fireline Safety Refresher. Payment is due 48 hours after signing up or your name will be moved to dropped status. Contact Danielle if you want to stay on the roster\, providing there is room. Please bring leather work gloves to use during the shelter deployment. Please have your employees park on the West side of the building and do not block the apparatus doors. The one way streets in the area are challenging so watch the street signs.Sign up for class!Location: Spokane City Fire Station 4\, 1515 W. 1st Ave.Click here to pay for classesInstructor: Todd GravesContact Name : Danielle SimsContact Phone : 425-239-6613Contact Email : dsimswcfa@yahoo.com \n
URL:https://www.wcfafirefighters.org/event/RT-130-Annual-Refresher-1281-1/
CATEGORIES:Training
END:VEVENT
END:VCALENDAR