BEGIN:VCALENDAR
VERSION:2.0
PRODID:-//Washington Contract Firefighters Association - ECPv4.8.1//NONSGML v1.0//EN
CALSCALE:GREGORIAN
METHOD:PUBLISH
X-WR-CALNAME:Washington Contract Firefighters Association
X-ORIGINAL-URL:https://www.wcfafirefighters.org
X-WR-CALDESC:Events for Washington Contract Firefighters Association
BEGIN:VEVENT
DTSTART;TZID=America/Los_Angeles:20240622T080000
DTEND;TZID=America/Los_Angeles:20240622T130000
DTSTAMP:20260423T051106
CREATED:20240310T110103Z
LAST-MODIFIED:20250101T070103Z
UID:92267-1719043200-1719061200@www.wcfafirefighters.org
SUMMARY:RT-130 Annual Refresher Cascade Bible Church\, 1119 S Methow Valley Hwy\, Tw
DESCRIPTION:Annual Fireline Safety Refresher. Payment is due 48 hours after signing up or your name will be moved to dropped status. Contact Danielle if you want to stay on the roster\, providing there is room. Please bring leather work gloves to use during the shelter deployment.Sign up for class!Location: Cascade Bible Church\, 1119 S Methow Valley Hwy\, TwClick here to pay for classesInstructor: Charlie CurtisContact Name : Danielle SimsContact Phone : 425-239-6613Contact Email : dsimswcfa@yahoo.com \n
URL:https://www.wcfafirefighters.org/event/RT-130-Annual-Refresher-1301-1/
CATEGORIES:Training
END:VEVENT
END:VCALENDAR