BEGIN:VCALENDAR
VERSION:2.0
PRODID:-//Washington Contract Firefighters Association - ECPv4.8.1//NONSGML v1.0//EN
CALSCALE:GREGORIAN
METHOD:PUBLISH
X-WR-CALNAME:Washington Contract Firefighters Association
X-ORIGINAL-URL:https://www.wcfafirefighters.org
X-WR-CALDESC:Events for Washington Contract Firefighters Association
BEGIN:VEVENT
DTSTART;TZID=America/Los_Angeles:20240218T090000
DTEND;TZID=America/Los_Angeles:20240218T140000
DTSTAMP:20260423T032855
CREATED:20240310T110105Z
LAST-MODIFIED:20250101T070105Z
UID:92306-1708246800-1708264800@www.wcfafirefighters.org
SUMMARY:RT-130 Annual Refresher FD\, 206 Curtis\, White Swan\, WA
DESCRIPTION:Annual Fireline Safety RefresherSign up for class!Location: FD\, 206 Curtis\, White Swan\, WAClick here to pay for classesInstructor: Greg BaileyContact Name : Danielle SimsContact Phone : 425-239-6613Contact Email : dsimswcfa@yahoo.com \n
URL:https://www.wcfafirefighters.org/event/RT-130-Annual-Refresher-1323-1/
CATEGORIES:Training
END:VEVENT
END:VCALENDAR