BEGIN:VCALENDAR
VERSION:2.0
PRODID:-//Washington Contract Firefighters Association - ECPv4.8.1//NONSGML v1.0//EN
CALSCALE:GREGORIAN
METHOD:PUBLISH
X-WR-CALNAME:Washington Contract Firefighters Association
X-ORIGINAL-URL:https://www.wcfafirefighters.org
X-WR-CALDESC:Events for Washington Contract Firefighters Association
BEGIN:VEVENT
DTSTART;TZID=America/Los_Angeles:20240323T080000
DTEND;TZID=America/Los_Angeles:20240323T130000
DTSTAMP:20260423T051226
CREATED:20240323T180104Z
LAST-MODIFIED:20250101T070105Z
UID:92315-1711180800-1711198800@www.wcfafirefighters.org
SUMMARY:RT-130 Annual Refresher Zoom - Twisp\, WA
DESCRIPTION:RT130 Annual Fire Refresher TrainingSign up for class!Location: Zoom – Twisp\, WAClick here to pay for classesInstructor: Saul LabanauskasContact Name : Danielle SimsContact Phone : 425-239-6613Contact Email : dsimswcfa@yahoo.com \n
URL:https://www.wcfafirefighters.org/event/RT-130-Annual-Refresher-1328-1/
CATEGORIES:Training
END:VEVENT
END:VCALENDAR