BEGIN:VCALENDAR
VERSION:2.0
PRODID:-//Washington Contract Firefighters Association - ECPv4.8.1//NONSGML v1.0//EN
CALSCALE:GREGORIAN
METHOD:PUBLISH
X-WR-CALNAME:Washington Contract Firefighters Association
X-ORIGINAL-URL:https://www.wcfafirefighters.org
X-WR-CALDESC:Events for Washington Contract Firefighters Association
BEGIN:VEVENT
DTSTART;TZID=America/Los_Angeles:20240606T080000
DTEND;TZID=America/Los_Angeles:20240606T130000
DTSTAMP:20260423T064212
CREATED:20240607T160105Z
LAST-MODIFIED:20250101T070106Z
UID:92368-1717660800-1717678800@www.wcfafirefighters.org
SUMMARY:RT-130 Annual Refresher Chilton Logging\, Woodland\, WA
DESCRIPTION:Annual Fireline Safety RefresherSign up for class!Location: Chilton Logging\, Woodland\, WAClick here to pay for classesInstructor: Kevin CurfmanContact Name : Danielle SimsContact Phone : 425-239-6613Contact Email : dsimswcfa@yahoo.com \n
URL:https://www.wcfafirefighters.org/event/RT-130-Annual-Refresher-1341-1/
CATEGORIES:Training
END:VEVENT
END:VCALENDAR