BEGIN:VCALENDAR
VERSION:2.0
PRODID:-//Washington Contract Firefighters Association - ECPv4.8.1//NONSGML v1.0//EN
CALSCALE:GREGORIAN
METHOD:PUBLISH
X-WR-CALNAME:Washington Contract Firefighters Association
X-ORIGINAL-URL:https://www.wcfafirefighters.org
X-WR-CALDESC:Events for Washington Contract Firefighters Association
BEGIN:VEVENT
DTSTART;TZID=America/Los_Angeles:20240618T080000
DTEND;TZID=America/Los_Angeles:20240618T130000
DTSTAMP:20260423T064218
CREATED:20240618T160105Z
LAST-MODIFIED:20250101T070106Z
UID:92378-1718697600-1718715600@www.wcfafirefighters.org
SUMMARY:RT-130 Annual Refresher Wildfire Services 3505 1/2 Fruitvale Blvd Yakima
DESCRIPTION:Annual Fireline Safety RefresherSign up for class!Location: Wildfire Services 3505 1/2 Fruitvale Blvd YakimaClick here to pay for classesInstructor: Timothy Logozzo Sr.Contact Name : Danielle SimsContact Phone : 425-239-6613Contact Email : dsimswcfa@yahoo.com \n
URL:https://www.wcfafirefighters.org/event/RT-130-Annual-Refresher-1347-1/
CATEGORIES:Training
END:VEVENT
END:VCALENDAR