BEGIN:VCALENDAR
VERSION:2.0
PRODID:-//Washington Contract Firefighters Association - ECPv4.8.1//NONSGML v1.0//EN
CALSCALE:GREGORIAN
METHOD:PUBLISH
X-WR-CALNAME:Washington Contract Firefighters Association
X-ORIGINAL-URL:https://www.wcfafirefighters.org
X-WR-CALDESC:Events for Washington Contract Firefighters Association
BEGIN:VEVENT
DTSTART;TZID=America/Los_Angeles:20240713T070000
DTEND;TZID=America/Los_Angeles:20240713T120000
DTSTAMP:20260423T014923
CREATED:20240703T190106Z
LAST-MODIFIED:20250101T070106Z
UID:92388-1720854000-1720872000@www.wcfafirefighters.org
SUMMARY:RT-130 Annual Refresher Rains Trout Farm\, 122 Hunter Mt. Rd\, Pateros\, WA
DESCRIPTION:Annual Fireline Safety Refresher – Please bring leather work gloves to wear durning the shelter deployment. Location is 1.5 miles up Hunter Mt.Rd.- 1st driveway to the right. If you are going up Hwy 153 we are 7 miles up\, take a left on Hunter Mt. Road \, if they are coming down Hwy 153 it is approx. 2 miles past the town of Methow and you take a right.Sign up for class!Location: Rains Trout Farm\, 122 Hunter Mt. Rd\, Pateros\, WAClick here to pay for classesInstructor: Dave RainsContact Name : Danielle SimsContact Phone : 425-239-6613Contact Email : dsimswcfa@yahoo.com \n
URL:https://www.wcfafirefighters.org/event/RT-130-Annual-Refresher-1352-1/
CATEGORIES:Training
END:VEVENT
END:VCALENDAR