BEGIN:VCALENDAR
VERSION:2.0
PRODID:-//Washington Contract Firefighters Association - ECPv4.8.1//NONSGML v1.0//EN
CALSCALE:GREGORIAN
METHOD:PUBLISH
X-WR-CALNAME:Washington Contract Firefighters Association
X-ORIGINAL-URL:https://www.wcfafirefighters.org
X-WR-CALDESC:Events for Washington Contract Firefighters Association
BEGIN:VEVENT
DTSTART;TZID=America/Los_Angeles:20240730T070000
DTEND;TZID=America/Los_Angeles:20240730T120000
DTSTAMP:20260423T002206
CREATED:20240724T160106Z
LAST-MODIFIED:20250101T070107Z
UID:92390-1722322800-1722340800@www.wcfafirefighters.org
SUMMARY:RT-130 Annual Refresher Chelan Co FD 1 - Stn 17\, 3760 W Malaga Rd\, Malaga.
DESCRIPTION:Annual Fireline Safety Refresher. Bring leather gloves to wear during the depolyment.\nThis class is located in the town of Malaga which is across the river from East Wenatchee near Costco.Sign up for class!Location: Chelan Co FD 1 – Stn 17\, 3760 W Malaga Rd\, Malaga.Click here to pay for classesInstructor: Jacob BurkhartContact Name : Danielle SimsContact Phone : 425-239-6613Contact Email : dsimswcfa@yahoo.com \n
URL:https://www.wcfafirefighters.org/event/RT-130-Annual-Refresher-1354-1/
CATEGORIES:Training
END:VEVENT
END:VCALENDAR