BEGIN:VCALENDAR
VERSION:2.0
PRODID:-//Washington Contract Firefighters Association - ECPv4.8.1//NONSGML v1.0//EN
CALSCALE:GREGORIAN
METHOD:PUBLISH
X-WR-CALNAME:Washington Contract Firefighters Association
X-ORIGINAL-URL:https://www.wcfafirefighters.org
X-WR-CALDESC:Events for Washington Contract Firefighters Association
BEGIN:VEVENT
DTSTART;TZID=America/Los_Angeles:20250315T080000
DTEND;TZID=America/Los_Angeles:20250315T130000
DTSTAMP:20260423T031001
CREATED:20250309T110101Z
LAST-MODIFIED:20260101T070102Z
UID:92507-1742025600-1742043600@www.wcfafirefighters.org
SUMMARY:RT-130 Annual Refresher Wildfire Services 3505 1/2 Fruitvale Blvd Yakima
DESCRIPTION:Annual Fireline Safety Refresher. Please bring leather work gloves to use during the shelter deployment.Sign up for class!Location: Wildfire Services 3505 1/2 Fruitvale Blvd YakimaClick here to pay for classesInstructor: Jason SareContact Name : Danielle SimsContact Phone : 425-239-6613Contact Email : dsimswcfa@gmail.com \n
URL:https://www.wcfafirefighters.org/event/RT-130-Annual-Refresher-1361-1/
CATEGORIES:Training
END:VEVENT
END:VCALENDAR