BEGIN:VCALENDAR
VERSION:2.0
PRODID:-//Washington Contract Firefighters Association - ECPv4.8.1//NONSGML v1.0//EN
CALSCALE:GREGORIAN
METHOD:PUBLISH
X-WR-CALNAME:Washington Contract Firefighters Association
X-ORIGINAL-URL:https://www.wcfafirefighters.org
X-WR-CALDESC:Events for Washington Contract Firefighters Association
BEGIN:VEVENT
DTSTART;TZID=America/Los_Angeles:20250405T080000
DTEND;TZID=America/Los_Angeles:20250405T130000
DTSTAMP:20260422T205351
CREATED:20250309T110101Z
LAST-MODIFIED:20260101T070102Z
UID:92510-1743840000-1743858000@www.wcfafirefighters.org
SUMMARY:RT-130 Annual Refresher Rainier WF Shop\, 4958 Rd L 9\, Moses Lake\, WA
DESCRIPTION:Annual Fireline Safety Refresher. Bring leather gloves to use during the shelter deployment.Sign up for class!Location: Rainier WF Shop\, 4958 Rd L 9\, Moses Lake\, WAClick here to pay for classesInstructor: Daniel ShawContact Name : Danielle SimsContact Phone : 425-239-6613Contact Email : dsimswcfa@gmail.com \n
URL:https://www.wcfafirefighters.org/event/RT-130-Annual-Refresher-1364-1/
CATEGORIES:Training
END:VEVENT
END:VCALENDAR