BEGIN:VCALENDAR
VERSION:2.0
PRODID:-//Washington Contract Firefighters Association - ECPv4.8.1//NONSGML v1.0//EN
CALSCALE:GREGORIAN
METHOD:PUBLISH
X-WR-CALNAME:Washington Contract Firefighters Association
X-ORIGINAL-URL:https://www.wcfafirefighters.org
X-WR-CALDESC:Events for Washington Contract Firefighters Association
BEGIN:VEVENT
DTSTART;TZID=America/Los_Angeles:20250517T080000
DTEND;TZID=America/Los_Angeles:20250517T130000
DTSTAMP:20260423T031057
CREATED:20250309T110102Z
LAST-MODIFIED:20260101T070103Z
UID:92518-1747468800-1747486800@www.wcfafirefighters.org
SUMMARY:RT-130 Annual Refresher Lewis Co FD 6\, 2123 Jackson Hwy\, Chehalis\, WA
DESCRIPTION:Annual Fireline Safety Refresher. Please bring leather work gloves to use during the shelter deployment.Sign up for class!Location: Lewis Co FD 6\, 2123 Jackson Hwy\, Chehalis\, WAClick here to pay for classesInstructor: Kevin CurfmanContact Name : Danielle SimsContact Phone : 425-239-6613Contact Email : dsimswcfa@gmail.com \n
URL:https://www.wcfafirefighters.org/event/RT-130-Annual-Refresher-1372-1/
CATEGORIES:Training
END:VEVENT
END:VCALENDAR