BEGIN:VCALENDAR
VERSION:2.0
PRODID:-//Washington Contract Firefighters Association - ECPv4.8.1//NONSGML v1.0//EN
CALSCALE:GREGORIAN
METHOD:PUBLISH
X-WR-CALNAME:Washington Contract Firefighters Association
X-ORIGINAL-URL:https://www.wcfafirefighters.org
X-WR-CALDESC:Events for Washington Contract Firefighters Association
BEGIN:VEVENT
DTSTART;TZID=America/Los_Angeles:20250323T080000
DTEND;TZID=America/Los_Angeles:20250323T130000
DTSTAMP:20260423T030925
CREATED:20250318T190105Z
LAST-MODIFIED:20260101T070105Z
UID:92570-1742716800-1742734800@www.wcfafirefighters.org
SUMMARY:RT-130 Annual Refresher Private Class - Loon Lake Fire Dept\, Loon Lk\, WA
DESCRIPTION:Private Annual Fireline Safety RefresherSign up for class!Location: Private Class – Loon Lake Fire Dept\, Loon Lk\, WAClick here to pay for classesInstructor: Greg IsaacContact Name : Danielle SimsContact Phone : 425-239-6613Contact Email : dsimswcfa@gmail.com \n
URL:https://www.wcfafirefighters.org/event/RT-130-Annual-Refresher-1402-1/
CATEGORIES:Training
END:VEVENT
END:VCALENDAR