BEGIN:VCALENDAR
VERSION:2.0
PRODID:-//Washington Contract Firefighters Association - ECPv4.8.1//NONSGML v1.0//EN
CALSCALE:GREGORIAN
METHOD:PUBLISH
X-WR-CALNAME:Washington Contract Firefighters Association
X-ORIGINAL-URL:https://www.wcfafirefighters.org
X-WR-CALDESC:Events for Washington Contract Firefighters Association
BEGIN:VEVENT
DTSTART;TZID=America/Los_Angeles:20250427T070000
DTEND;TZID=America/Los_Angeles:20250427T120000
DTSTAMP:20260423T013503
CREATED:20250428T220105Z
LAST-MODIFIED:20260101T070105Z
UID:92614-1745737200-1745755200@www.wcfafirefighters.org
SUMMARY:RT-130 Annual Refresher Chelan Co FD 1\, Eastmont\, East Wenatchee\, WA
DESCRIPTION:Annual Fireline Safety RefresherSign up for class!Location: Chelan Co FD 1\, Eastmont\, East Wenatchee\, WAClick here to pay for classesInstructor: Jacob BurkhartContact Name : Danielle SimsContact Phone : 425-239-6613Contact Email : dsimswcfa@gmail.com \n
URL:https://www.wcfafirefighters.org/event/RT-130-Annual-Refresher-1406-1/
CATEGORIES:Training
END:VEVENT
END:VCALENDAR