BEGIN:VCALENDAR
VERSION:2.0
PRODID:-//Washington Contract Firefighters Association - ECPv4.8.1//NONSGML v1.0//EN
CALSCALE:GREGORIAN
METHOD:PUBLISH
X-WR-CALNAME:Washington Contract Firefighters Association
X-ORIGINAL-URL:https://www.wcfafirefighters.org
X-WR-CALDESC:Events for Washington Contract Firefighters Association
BEGIN:VEVENT
DTSTART;TZID=America/Los_Angeles:20260314T080000
DTEND;TZID=America/Los_Angeles:20260314T130000
DTSTAMP:20260422T145029
CREATED:20260219T120101Z
LAST-MODIFIED:20260301T231316Z
UID:92681-1773475200-1773493200@www.wcfafirefighters.org
SUMMARY:RT-130 Annual Refresher Okanogan PUD - 1331 2nd Ave N\, Okanogan\, WA 
DESCRIPTION:Annual Fireline Safety Refresher – Please bring leather work gloves to use during the shelter deployment for a more authentic experience.Location: Okanogan PUD – 1331 2nd Ave N\, Okanogan\, WA Instructor: Charlie CurtisContact Name : Danielle SimsContact Phone : 425-239-6613Contact Email : dsimswcfa@gmail.comTo sign up for the class visit our TEQMET Training Database here.Return to our Website to pay for the class. \n
URL:https://www.wcfafirefighters.org/event/RT-130-Annual-Refresher-1426-1/
CATEGORIES:Training
END:VEVENT
END:VCALENDAR