BEGIN:VCALENDAR
VERSION:2.0
PRODID:-//Washington Contract Firefighters Association - ECPv4.8.1//NONSGML v1.0//EN
CALSCALE:GREGORIAN
METHOD:PUBLISH
X-WR-CALNAME:Washington Contract Firefighters Association
X-ORIGINAL-URL:https://www.wcfafirefighters.org
X-WR-CALDESC:Events for Washington Contract Firefighters Association
BEGIN:VEVENT
DTSTART;TZID=America/Los_Angeles:20260404T080000
DTEND;TZID=America/Los_Angeles:20260404T130000
DTSTAMP:20260422T173835
CREATED:20260219T130102Z
LAST-MODIFIED:20260301T231316Z
UID:92685-1775289600-1775307600@www.wcfafirefighters.org
SUMMARY:RT-130 Annual Refresher Wildfire Services - 3505 1/2 Fruitvale Blvd\, Yakima\, WA
DESCRIPTION:Annual Fireline Safety Refresher. Bring leather gloves to use during the shelter deployment.Location: Wildfire Services – 3505 1/2 Fruitvale Blvd\, Yakima\, WAInstructor: Jason SareContact Name : Danielle SimsContact Phone : 425-239-6613Contact Email : dsimswcfa@gmail.comTo sign up for the class visit our TEQMET Training Database here.Return to our Website to pay for the class. \n
URL:https://www.wcfafirefighters.org/event/RT-130-Annual-Refresher-1431-1/
CATEGORIES:Training
END:VEVENT
END:VCALENDAR