BEGIN:VCALENDAR
VERSION:2.0
PRODID:-//Washington Contract Firefighters Association - ECPv4.8.1//NONSGML v1.0//EN
CALSCALE:GREGORIAN
METHOD:PUBLISH
X-WR-CALNAME:Washington Contract Firefighters Association
X-ORIGINAL-URL:https://www.wcfafirefighters.org
X-WR-CALDESC:Events for Washington Contract Firefighters Association
BEGIN:VEVENT
DTSTART;TZID=America/Los_Angeles:20260411T130000
DTEND;TZID=America/Los_Angeles:20260411T180000
DTSTAMP:20260422T131734
CREATED:20260219T130102Z
LAST-MODIFIED:20260301T231316Z
UID:92687-1775912400-1775930400@www.wcfafirefighters.org
SUMMARY:RT-130 Annual Refresher Prospector Inn (PM) - 979 S Clark Ave\, Republic\, WA
DESCRIPTION:Annual Fireline Safety Course – This is the afternoon (PM) Class. Please bring leather work gloves to wear during the shelter depolyment.Location: Prospector Inn (PM) – 979 S Clark Ave\, Republic\, WAInstructor: Charlie CurtisContact Name : Danielle SimsContact Phone : 425-239-6613Contact Email : dsimswcfa@gmail.comTo sign up for the class visit our TEQMET Training Database here.Return to our Website to pay for the class. \n
URL:https://www.wcfafirefighters.org/event/RT-130-Annual-Refresher-1433-1/
CATEGORIES:Training
END:VEVENT
END:VCALENDAR