BEGIN:VCALENDAR
VERSION:2.0
PRODID:-//Washington Contract Firefighters Association - ECPv4.8.1//NONSGML v1.0//EN
CALSCALE:GREGORIAN
METHOD:PUBLISH
X-WR-CALNAME:Washington Contract Firefighters Association
X-ORIGINAL-URL:https://www.wcfafirefighters.org
X-WR-CALDESC:Events for Washington Contract Firefighters Association
BEGIN:VEVENT
DTSTART;TZID=America/Los_Angeles:20260606T080000
DTEND;TZID=America/Los_Angeles:20260606T130000
DTSTAMP:20260422T131703
CREATED:20260219T150103Z
LAST-MODIFIED:20260301T231317Z
UID:92702-1780732800-1780750800@www.wcfafirefighters.org
SUMMARY:RT-130 Annual Refresher Wildfire Services - 3505 1/2 Fruitvale Blvd\, Yakima\, WA
DESCRIPTION:Annual Fireline Safety Refresher – Bring leather work gloves to wear during the shelter deployment.Location: Wildfire Services – 3505 1/2 Fruitvale Blvd\, Yakima\, WAInstructor: Jason SareContact Name : Danielle SimsContact Phone : 425-239-6613Contact Email : dsimswcfa@gmail.comTo sign up for the class visit our TEQMET Training Database here.Return to our Website to pay for the class. \n
URL:https://www.wcfafirefighters.org/event/RT-130-Annual-Refresher-1443-1/
CATEGORIES:Training
END:VEVENT
END:VCALENDAR