BEGIN:VCALENDAR
VERSION:2.0
PRODID:-//Washington Contract Firefighters Association - ECPv4.8.1//NONSGML v1.0//EN
CALSCALE:GREGORIAN
METHOD:PUBLISH
X-WR-CALNAME:Washington Contract Firefighters Association
X-ORIGINAL-URL:https://www.wcfafirefighters.org
X-WR-CALDESC:Events for Washington Contract Firefighters Association
BEGIN:VEVENT
DTSTART;TZID=America/Los_Angeles:20260516T080000
DTEND;TZID=America/Los_Angeles:20260516T130000
DTSTAMP:20260422T145133
CREATED:20260219T150103Z
LAST-MODIFIED:20260301T231317Z
UID:92703-1778918400-1778936400@www.wcfafirefighters.org
SUMMARY:RT-130 Annual Refresher Ballard Ambulance - 1028 N Wenatchee Ave\, Wenatchee\, WA
DESCRIPTION:Annual Fireline Safety Refresher – Bring leather work gloves to wear during the shelter deployment. Parking is located across the Avenue at GESA Credit Union. Please be careful crossing the Avenue.Location: Ballard Ambulance – 1028 N Wenatchee Ave\, Wenatchee\, WAInstructor: DALTON KINGContact Name : Danielle SimsContact Phone : 425-239-6613Contact Email : dsimswcfa@gmail.comTo sign up for the class visit our TEQMET Training Database here.Return to our Website to pay for the class. \n
URL:https://www.wcfafirefighters.org/event/RT-130-Annual-Refresher-1444-1/
CATEGORIES:Training
END:VEVENT
END:VCALENDAR