BEGIN:VCALENDAR
VERSION:2.0
PRODID:-//Washington Contract Firefighters Association - ECPv4.8.1//NONSGML v1.0//EN
CALSCALE:GREGORIAN
METHOD:PUBLISH
X-WR-CALNAME:Washington Contract Firefighters Association
X-ORIGINAL-URL:https://www.wcfafirefighters.org
X-WR-CALDESC:Events for Washington Contract Firefighters Association
BEGIN:VEVENT
DTSTART;TZID=America/Los_Angeles:20260523T080000
DTEND;TZID=America/Los_Angeles:20260523T130000
DTSTAMP:20260422T161627
CREATED:20260220T050104Z
LAST-MODIFIED:20260301T231317Z
UID:92716-1779523200-1779541200@www.wcfafirefighters.org
SUMMARY:RT-130 Annual Refresher Rains Trout Farm\, 122 Hunter Mt. Rd\, Pateros
DESCRIPTION:Annual Fireline Safety Refresher. Please bring leather work gloves to use during the shelter deployment.Location: Rains Trout Farm\, 122 Hunter Mt. Rd\, PaterosInstructor: Dave RainsContact Name : Danielle SimsContact Phone : 425-239-6613Contact Email : dsimswcfa@gmail.comTo sign up for the class visit our TEQMET Training Database here.Return to our Website to pay for the class. \n
URL:https://www.wcfafirefighters.org/event/RT-130-Annual-Refresher-1453-1/
CATEGORIES:Training
END:VEVENT
END:VCALENDAR