BEGIN:VCALENDAR
VERSION:2.0
PRODID:-//Washington Contract Firefighters Association - ECPv4.8.1//NONSGML v1.0//EN
CALSCALE:GREGORIAN
METHOD:PUBLISH
X-WR-CALNAME:Washington Contract Firefighters Association
X-ORIGINAL-URL:https://www.wcfafirefighters.org
X-WR-CALDESC:Events for Washington Contract Firefighters Association
BEGIN:VEVENT
DTSTART;TZID=America/Los_Angeles:20260404T080000
DTEND;TZID=America/Los_Angeles:20260404T130000
DTSTAMP:20260426T020132
CREATED:20260221T120104Z
LAST-MODIFIED:20260301T231317Z
UID:92743-1775289600-1775307600@www.wcfafirefighters.org
SUMMARY:RT-130 Annual Refresher Rainier WF Shop\, 4958 Rd L 9\, Moses Lake\, WA
DESCRIPTION:Annual Fireline Safety Refresher. Bring leather gloves to use during the shelter deployment.Location: Rainier WF Shop\, 4958 Rd L 9\, Moses Lake\, WAInstructor: Daniel ShawContact Name : Danielle SimsContact Phone : 425-239-6613Contact Email : dsimswcfa@gmail.comTo sign up for the class visit our TEQMET Training Database here.Return to our Website to pay for the class. \n
URL:https://www.wcfafirefighters.org/event/RT-130-Annual-Refresher-1466-1/
CATEGORIES:Training
END:VEVENT
END:VCALENDAR