BEGIN:VCALENDAR
VERSION:2.0
PRODID:-//Washington Contract Firefighters Association - ECPv4.8.1//NONSGML v1.0//EN
CALSCALE:GREGORIAN
METHOD:PUBLISH
X-WR-CALNAME:Washington Contract Firefighters Association
X-ORIGINAL-URL:https://www.wcfafirefighters.org
X-WR-CALDESC:Events for Washington Contract Firefighters Association
BEGIN:VEVENT
DTSTART;TZID=America/Los_Angeles:20160305T080000
DTEND;TZID=America/Los_Angeles:20160305T150000
DTSTAMP:20260422T155222
CREATED:20160301T090000Z
LAST-MODIFIED:20161231T090000Z
UID:741-1457164800-1457190000@www.wcfafirefighters.org
SUMMARY:RT-130 Annual Refresher Community Covenant Church\, 710 Hwy 20 N\, Twisp
DESCRIPTION:Annual Fireline Safety Refresher.  Sign up for class!Location: Community Covenant Church\, 710 Hwy 20 N\, TwispClick here to pay for classesContact: Charlie Curtis \n
URL:https://www.wcfafirefighters.org/event/RT-130-Annual-Refresher-597-1/
CATEGORIES:Training
END:VEVENT
END:VCALENDAR