BEGIN:VCALENDAR
VERSION:2.0
PRODID:-//Washington Contract Firefighters Association - ECPv4.8.1//NONSGML v1.0//EN
CALSCALE:GREGORIAN
METHOD:PUBLISH
X-WR-CALNAME:Washington Contract Firefighters Association
X-ORIGINAL-URL:https://www.wcfafirefighters.org
X-WR-CALDESC:Events for Washington Contract Firefighters Association
BEGIN:VEVENT
DTSTART;TZID=America/Los_Angeles:20160228T080000
DTEND;TZID=America/Los_Angeles:20160228T150000
DTSTAMP:20260422T171422
CREATED:20160301T090000Z
LAST-MODIFIED:20161231T090000Z
UID:791-1456646400-1456671600@www.wcfafirefighters.org
SUMMARY:RT-130 Annual Refresher Medical Lake Library\, 321 E. Herb St.
DESCRIPTION:Annual Fireline Safety Refresher. Directions: Turn off Hwy 2 near Airway Heights on S. Brooks Rd toward Medical Lake\, turn R on N Lefevre St.\, turn L on E. Lake St.\, turn R on the second cross street on S Washington St.\, turn L on E Herb\, library will be on the right.Sign up for class!Location: Medical Lake Library\, 321 E. Herb St.Click here to pay for classesContact: Todd Graves \n
URL:https://www.wcfafirefighters.org/event/RT-130-Annual-Refresher-623-1/
CATEGORIES:Training
END:VEVENT
END:VCALENDAR