BEGIN:VCALENDAR
VERSION:2.0
PRODID:-//Washington Contract Firefighters Association - ECPv4.8.1//NONSGML v1.0//EN
CALSCALE:GREGORIAN
METHOD:PUBLISH
X-WR-CALNAME:Washington Contract Firefighters Association
X-ORIGINAL-URL:https://www.wcfafirefighters.org
X-WR-CALDESC:Events for Washington Contract Firefighters Association
BEGIN:VEVENT
DTSTART;TZID=America/Los_Angeles:20160618T090000
DTEND;TZID=America/Los_Angeles:20160618T160000
DTSTAMP:20260422T160847
CREATED:20160301T090000Z
LAST-MODIFIED:20161231T090000Z
UID:804-1466240400-1466265600@www.wcfafirefighters.org
SUMMARY:RT-130 Annual Refresher Comfort Inn\, 815 N Wenatchee Ave\, Wenatchee\, WA
DESCRIPTION:**THIS CLASS STARTS AT 9:00AM** Annual Fireline Safety Refresher.  Just south of 9th street on Wenatchee Ave.Sign up for class!Location: Comfort Inn\, 815 N Wenatchee Ave\, Wenatchee\, WAClick here to pay for classesContact: Charlie Curtis \n
URL:https://www.wcfafirefighters.org/event/RT-130-Annual-Refresher-633-1/
CATEGORIES:Training
END:VEVENT
END:VCALENDAR