BEGIN:VCALENDAR
VERSION:2.0
PRODID:-//Washington Contract Firefighters Association - ECPv4.8.1//NONSGML v1.0//EN
CALSCALE:GREGORIAN
METHOD:PUBLISH
X-WR-CALNAME:Washington Contract Firefighters Association
X-ORIGINAL-URL:https://www.wcfafirefighters.org
X-WR-CALDESC:Events for Washington Contract Firefighters Association
BEGIN:VEVENT
DTSTART;TZID=America/Los_Angeles:20160501T080000
DTEND;TZID=America/Los_Angeles:20160501T150000
DTSTAMP:20260422T231612
CREATED:20160301T090000Z
LAST-MODIFIED:20161231T090000Z
UID:807-1462089600-1462114800@www.wcfafirefighters.org
SUMMARY:RT-130 Annual Refresher Chelan FD\, St. 11\, 206 Easy Street\, Wenatchee\, WA.
DESCRIPTION:Annual Fireline Safety Refresher.  Turn right or left off Hwy 97/2 at the light in Wenatchee onto Easy Street at the north end of town. Sign up for class!Location: Chelan FD\, St. 11\, 206 Easy Street\, Wenatchee\, WA.Click here to pay for classesContact: Jacob Burkhart \n
URL:https://www.wcfafirefighters.org/event/RT-130-Annual-Refresher-636-1/
CATEGORIES:Training
END:VEVENT
END:VCALENDAR