BEGIN:VCALENDAR
VERSION:2.0
PRODID:-//Washington Contract Firefighters Association - ECPv4.8.1//NONSGML v1.0//EN
CALSCALE:GREGORIAN
METHOD:PUBLISH
X-WR-CALNAME:Washington Contract Firefighters Association
X-ORIGINAL-URL:https://www.wcfafirefighters.org
X-WR-CALDESC:Events for Washington Contract Firefighters Association
BEGIN:VEVENT
DTSTART;TZID=America/Los_Angeles:20160306T080000
DTEND;TZID=America/Los_Angeles:20160306T150000
DTSTAMP:20260422T141945
CREATED:20160310T090000Z
LAST-MODIFIED:20161231T090000Z
UID:1082-1457251200-1457276400@www.wcfafirefighters.org
SUMMARY:RT-130 Annual Refresher Davenport High School\, 801 7th Street\,\, Davenport\,
DESCRIPTION:Private Annual Fireline Safety Refresher.Sign up for class!Location: Davenport High School\, 801 7th Street\,\, Davenport\,Click here to pay for classesContact: Jacob Burkhart \n
URL:https://www.wcfafirefighters.org/event/RT-130-Annual-Refresher-643-1/
CATEGORIES:Training
END:VEVENT
END:VCALENDAR