BEGIN:VCALENDAR
VERSION:2.0
PRODID:-//Washington Contract Firefighters Association - ECPv4.8.1//NONSGML v1.0//EN
CALSCALE:GREGORIAN
METHOD:PUBLISH
X-WR-CALNAME:Washington Contract Firefighters Association
X-ORIGINAL-URL:https://www.wcfafirefighters.org
X-WR-CALDESC:Events for Washington Contract Firefighters Association
BEGIN:VEVENT
DTSTART;TZID=America/Los_Angeles:20160331T083000
DTEND;TZID=America/Los_Angeles:20160331T153000
DTSTAMP:20260422T171422
CREATED:20160323T080000Z
LAST-MODIFIED:20161231T090000Z
UID:1115-1459413000-1459438200@www.wcfafirefighters.org
SUMMARY:RT-130 Annual Refresher  Rayonier\, 3303 Ingram St.\, Hoquiam\, WA
DESCRIPTION:Annual Fireline Safety RefresherSign up for class!Location:  Rayonier\, 3303 Ingram St.\, Hoquiam\, WAClick here to pay for classesContact: Kevin Curfman \n
URL:https://www.wcfafirefighters.org/event/RT-130-Annual-Refresher-649-1/
CATEGORIES:Training
END:VEVENT
END:VCALENDAR