BEGIN:VCALENDAR
VERSION:2.0
PRODID:-//Washington Contract Firefighters Association - ECPv4.8.1//NONSGML v1.0//EN
CALSCALE:GREGORIAN
METHOD:PUBLISH
X-WR-CALNAME:Washington Contract Firefighters Association
X-ORIGINAL-URL:https://www.wcfafirefighters.org
X-WR-CALDESC:Events for Washington Contract Firefighters Association
BEGIN:VEVENT
DTSTART;TZID=America/Los_Angeles:20160604T080000
DTEND;TZID=America/Los_Angeles:20160604T150000
DTSTAMP:20260422T110113
CREATED:20160523T080000Z
LAST-MODIFIED:20161231T090000Z
UID:1185-1465027200-1465052400@www.wcfafirefighters.org
SUMMARY:RT-130 Annual Refresher Chilton Inc.Logging\,1760 Down River\, Woodland\, WA
DESCRIPTION:Annual Fireline Safety Refresher. Sign out front says: “Chilton Inc. Logging and Custom Homes. Heritage Park Retreat Center”  It is one large building with the front door clearly visible.Sign up for class!Location: Chilton Inc.Logging\,1760 Down River\, Woodland\, WAClick here to pay for classesContact: Kevin Curfman \n
URL:https://www.wcfafirefighters.org/event/RT-130-Annual-Refresher-663-1/
CATEGORIES:Training
END:VEVENT
END:VCALENDAR