BEGIN:VCALENDAR
VERSION:2.0
PRODID:-//Washington Contract Firefighters Association - ECPv4.8.1//NONSGML v1.0//EN
CALSCALE:GREGORIAN
METHOD:PUBLISH
X-WR-CALNAME:Washington Contract Firefighters Association
X-ORIGINAL-URL:https://www.wcfafirefighters.org
X-WR-CALDESC:Events for Washington Contract Firefighters Association
BEGIN:VEVENT
DTSTART;TZID=America/Los_Angeles:20170408T080000
DTEND;TZID=America/Los_Angeles:20170408T150000
DTSTAMP:20260422T220134
CREATED:20171231T090000Z
LAST-MODIFIED:20171231T090000Z
UID:79106-1491638400-1491663600@www.wcfafirefighters.org
SUMMARY:RT-130 Annual Refresher Rains Trout Farm\, 122 Squaw Creek Rd\, Pateros\, WA.
DESCRIPTION:Annual Fireline Safety Refresher. Location is 1.5 miles up Squaw Creek Rd.- 1st driveway to the right. If you are going up the Methow we are 7 miles up and take a left on Squaw creek \, if they are coming down the Methow Hiway it is approx. 2 miles past the town of Methow and you take a right. Sign up for class!Location: Rains Trout Farm\, 122 Squaw Creek Rd\, Pateros\, WA.Click here to pay for classesContact: Dave Rains \n
URL:https://www.wcfafirefighters.org/event/RT-130-Annual-Refresher-689-1/
CATEGORIES:Training
END:VEVENT
END:VCALENDAR