BEGIN:VCALENDAR
VERSION:2.0
PRODID:-//Washington Contract Firefighters Association - ECPv4.8.1//NONSGML v1.0//EN
CALSCALE:GREGORIAN
METHOD:PUBLISH
X-WR-CALNAME:Washington Contract Firefighters Association
X-ORIGINAL-URL:https://www.wcfafirefighters.org
X-WR-CALDESC:Events for Washington Contract Firefighters Association
BEGIN:VEVENT
DTSTART;TZID=America/Los_Angeles:20170408T080000
DTEND;TZID=America/Los_Angeles:20170408T150000
DTSTAMP:20260422T234639
CREATED:20171231T090000Z
LAST-MODIFIED:20171231T090000Z
UID:79107-1491638400-1491663600@www.wcfafirefighters.org
SUMMARY:RT-130 Annual Refresher Community Covenant Church\, 710 Hwy 20 N. Twisp
DESCRIPTION:Annual Fireline Safety RefresherSign up for class!Location: Community Covenant Church\, 710 Hwy 20 N. TwispClick here to pay for classesContact: Charlie Curtis \n
URL:https://www.wcfafirefighters.org/event/RT-130-Annual-Refresher-690-1/
CATEGORIES:Training
END:VEVENT
END:VCALENDAR