BEGIN:VCALENDAR
VERSION:2.0
PRODID:-//Washington Contract Firefighters Association - ECPv4.8.1//NONSGML v1.0//EN
CALSCALE:GREGORIAN
METHOD:PUBLISH
X-WR-CALNAME:Washington Contract Firefighters Association
X-ORIGINAL-URL:https://www.wcfafirefighters.org
X-WR-CALDESC:Events for Washington Contract Firefighters Association
BEGIN:VEVENT
DTSTART;TZID=America/Los_Angeles:20170311T080000
DTEND;TZID=America/Los_Angeles:20170311T170000
DTSTAMP:20260422T155310
CREATED:20171231T090000Z
LAST-MODIFIED:20171231T090000Z
UID:79152-1489219200-1489251600@www.wcfafirefighters.org
SUMMARY:RT-130 Annual Refresher Kevin Weed's Shop - 13110 12th St. S.E.\, Lake Stev
DESCRIPTION:Annual Fireline Safety Refresher Sign up for class!Location: Kevin Weed’s Shop – 13110 12th St. S.E.\, Lake StevClick here to pay for classesContact: Charlie Curtis \n
URL:https://www.wcfafirefighters.org/event/RT-130-Annual-Refresher-716-1/
CATEGORIES:Training
END:VEVENT
END:VCALENDAR