BEGIN:VCALENDAR
VERSION:2.0
PRODID:-//Washington Contract Firefighters Association - ECPv4.8.1//NONSGML v1.0//EN
CALSCALE:GREGORIAN
METHOD:PUBLISH
X-WR-CALNAME:Washington Contract Firefighters Association
X-ORIGINAL-URL:https://www.wcfafirefighters.org
X-WR-CALDESC:Events for Washington Contract Firefighters Association
BEGIN:VEVENT
DTSTART;TZID=America/Los_Angeles:20170311T080000
DTEND;TZID=America/Los_Angeles:20170311T150000
DTSTAMP:20260422T140432
CREATED:20171231T090000Z
LAST-MODIFIED:20171231T090000Z
UID:79158-1489219200-1489244400@www.wcfafirefighters.org
SUMMARY:RT-130 Annual Refresher  Brothers Fire Shop\, 204 Industrial Ave\, Twisp
DESCRIPTION:Annual Fireline Safety RefresherSign up for class!Location:  Brothers Fire Shop\, 204 Industrial Ave\, TwispClick here to pay for classesContact: Dave Rains \n
URL:https://www.wcfafirefighters.org/event/RT-130-Annual-Refresher-720-1/
CATEGORIES:Training
END:VEVENT
END:VCALENDAR