BEGIN:VCALENDAR
VERSION:2.0
PRODID:-//Washington Contract Firefighters Association - ECPv4.8.1//NONSGML v1.0//EN
CALSCALE:GREGORIAN
METHOD:PUBLISH
X-WR-CALNAME:Washington Contract Firefighters Association
X-ORIGINAL-URL:https://www.wcfafirefighters.org
X-WR-CALDESC:Events for Washington Contract Firefighters Association
BEGIN:VEVENT
DTSTART;TZID=America/Los_Angeles:20170425T080000
DTEND;TZID=America/Los_Angeles:20170425T150000
DTSTAMP:20260423T172036
CREATED:20171231T090000Z
LAST-MODIFIED:20171231T090000Z
UID:79161-1493107200-1493132400@www.wcfafirefighters.org
SUMMARY:RT-130 Annual Refresher  Port Blakely Tree Farm Office\, Tumwater\, WA
DESCRIPTION:Annual Fireline Safety Refresher. Main Office\n8133 River Drive SE\nTumwater\, WA 98501\nTelephone: (360) 570-1992Sign up for class!Location:  Port Blakely Tree Farm Office\, Tumwater\, WAClick here to pay for classesContact: Kevin Curfman \n
URL:https://www.wcfafirefighters.org/event/RT-130-Annual-Refresher-723-1/
CATEGORIES:Training
END:VEVENT
END:VCALENDAR