BEGIN:VCALENDAR
VERSION:2.0
PRODID:-//Washington Contract Firefighters Association - ECPv4.8.1//NONSGML v1.0//EN
CALSCALE:GREGORIAN
METHOD:PUBLISH
X-WR-CALNAME:Washington Contract Firefighters Association
X-ORIGINAL-URL:https://www.wcfafirefighters.org
X-WR-CALDESC:Events for Washington Contract Firefighters Association
BEGIN:VEVENT
DTSTART;TZID=America/Los_Angeles:20170805T080000
DTEND;TZID=America/Los_Angeles:20170805T150000
DTSTAMP:20260422T110156
CREATED:20171231T090000Z
LAST-MODIFIED:20171231T090000Z
UID:79176-1501920000-1501945200@www.wcfafirefighters.org
SUMMARY:RT-130 Annual Refresher WFS Building\, 3505 1/2 Fruitvale Blvd\, Yakima
DESCRIPTION:Annual Wildland Safety Refresher.  Pack test may be administered prior to the class.  Contact Wildfire Services @ wfstim@gmail.com.Sign up for class!Location: WFS Building\, 3505 1/2 Fruitvale Blvd\, YakimaClick here to pay for classesContact: Timothy Logozzo Sr. \n
URL:https://www.wcfafirefighters.org/event/RT-130-Annual-Refresher-738-1/
CATEGORIES:Training
END:VEVENT
END:VCALENDAR