BEGIN:VCALENDAR
VERSION:2.0
PRODID:-//Washington Contract Firefighters Association - ECPv4.8.1//NONSGML v1.0//EN
CALSCALE:GREGORIAN
METHOD:PUBLISH
X-WR-CALNAME:Washington Contract Firefighters Association
X-ORIGINAL-URL:https://www.wcfafirefighters.org
X-WR-CALDESC:Events for Washington Contract Firefighters Association
BEGIN:VEVENT
DTSTART;TZID=America/Los_Angeles:20170910T080000
DTEND;TZID=America/Los_Angeles:20170910T140000
DTSTAMP:20260422T064137
CREATED:20171231T090000Z
LAST-MODIFIED:20171231T090000Z
UID:79179-1505030400-1505052000@www.wcfafirefighters.org
SUMMARY:RT-130 Annual Refresher Snohomish Fire Station #4\, 1525 Ave D\, Snohomish
DESCRIPTION:Annual Fireline Safety RefresherSign up for class!Location: Snohomish Fire Station #4\, 1525 Ave D\, SnohomishClick here to pay for classesContact: Kevin Curfman \n
URL:https://www.wcfafirefighters.org/event/RT-130-Annual-Refresher-742-1/
CATEGORIES:Training
END:VEVENT
END:VCALENDAR