BEGIN:VCALENDAR
VERSION:2.0
PRODID:-//Washington Contract Firefighters Association - ECPv4.8.1//NONSGML v1.0//EN
CALSCALE:GREGORIAN
METHOD:PUBLISH
X-WR-CALNAME:Washington Contract Firefighters Association
X-ORIGINAL-URL:https://www.wcfafirefighters.org
X-WR-CALDESC:Events for Washington Contract Firefighters Association
BEGIN:VEVENT
DTSTART;TZID=America/Los_Angeles:20180407T080000
DTEND;TZID=America/Los_Angeles:20180407T130000
DTSTAMP:20260422T144027
CREATED:20180210T090000Z
LAST-MODIFIED:20180606T011926Z
UID:90594-1523088000-1523106000@www.wcfafirefighters.org
SUMMARY:RT-130 Annual Refresher WFS Bldg\, 3505 1/2 Fruitvale Blvd\, Yakima
DESCRIPTION:Annual Fireline Safety Refresher.Sign up for class!Location: WFS Bldg\, 3505 1/2 Fruitvale Blvd\, YakimaClick here to pay for classesInstructor: James  HarterContact Name : Danielle SimsContact Phone : 425-239-6613Contact Email : dsimswcfa@yahoo.com \n
URL:https://www.wcfafirefighters.org/event/RT-130-Annual-Refresher-750-1/
CATEGORIES:Training
END:VEVENT
END:VCALENDAR