BEGIN:VCALENDAR
VERSION:2.0
PRODID:-//Washington Contract Firefighters Association - ECPv4.8.1//NONSGML v1.0//EN
CALSCALE:GREGORIAN
METHOD:PUBLISH
X-WR-CALNAME:Washington Contract Firefighters Association
X-ORIGINAL-URL:https://www.wcfafirefighters.org
X-WR-CALDESC:Events for Washington Contract Firefighters Association
BEGIN:VEVENT
DTSTART;TZID=America/Los_Angeles:20180421T080000
DTEND;TZID=America/Los_Angeles:20180421T130000
DTSTAMP:20260423T045041
CREATED:20180210T090000Z
LAST-MODIFIED:20180606T011926Z
UID:90597-1524297600-1524315600@www.wcfafirefighters.org
SUMMARY:RT-130 Annual Refresher Chelan FD #1\, 206 Easy St. Wenatchee\, WA.
DESCRIPTION:Annual Fireline Safety Refresher.Sign up for class!Location: Chelan FD #1\, 206 Easy St. Wenatchee\, WA.Click here to pay for classesInstructor: James  HarterContact Name : Danielle SimsContact Phone : 425-239-6613Contact Email : dsimswcfa@yahoo.com \n
URL:https://www.wcfafirefighters.org/event/RT-130-Annual-Refresher-753-1/
CATEGORIES:Training
END:VEVENT
END:VCALENDAR