BEGIN:VCALENDAR
VERSION:2.0
PRODID:-//Washington Contract Firefighters Association - ECPv4.8.1//NONSGML v1.0//EN
CALSCALE:GREGORIAN
METHOD:PUBLISH
X-WR-CALNAME:Washington Contract Firefighters Association
X-ORIGINAL-URL:https://www.wcfafirefighters.org
X-WR-CALDESC:Events for Washington Contract Firefighters Association
BEGIN:VEVENT
DTSTART;TZID=America/Los_Angeles:20180428T080000
DTEND;TZID=America/Los_Angeles:20180428T130000
DTSTAMP:20260422T113426
CREATED:20180210T090000Z
LAST-MODIFIED:20180606T011926Z
UID:90600-1524902400-1524920400@www.wcfafirefighters.org
SUMMARY:RT-130 Annual Refresher Comm. Covenant Church\, 710 Hwy 20 N\, Twisp\, WA
DESCRIPTION:Annual Fireline Safety Refresher.Sign up for class!Location: Comm. Covenant Church\, 710 Hwy 20 N\, Twisp\, WAClick here to pay for classesInstructor: Charlie CurtisContact Name : Danielle SimsContact Phone : 425-239-6613Contact Email : dsimswcfa@yahoo.com \n
URL:https://www.wcfafirefighters.org/event/RT-130-Annual-Refresher-756-1/
CATEGORIES:Training
END:VEVENT
END:VCALENDAR