BEGIN:VCALENDAR
VERSION:2.0
PRODID:-//Washington Contract Firefighters Association - ECPv4.8.1//NONSGML v1.0//EN
CALSCALE:GREGORIAN
METHOD:PUBLISH
X-WR-CALNAME:Washington Contract Firefighters Association
X-ORIGINAL-URL:https://www.wcfafirefighters.org
X-WR-CALDESC:Events for Washington Contract Firefighters Association
BEGIN:VEVENT
DTSTART;TZID=America/Los_Angeles:20180526T080000
DTEND;TZID=America/Los_Angeles:20180526T130000
DTSTAMP:20260422T065438
CREATED:20180210T090000Z
LAST-MODIFIED:20180606T011926Z
UID:90607-1527321600-1527339600@www.wcfafirefighters.org
SUMMARY:RT-130 Annual Refresher Rains Trout Farm\, 122 Hunter Mtn. Rd\, Pateros
DESCRIPTION:Annual Fireline Safety Refresher. Location is 1.5 miles up Hunter Mountain Raod (Formally Squaw Creek Rd).- 1st driveway to the right. If you are going up the Methow we are 7 miles up and take a left on Hunter Mtn. Rd\, (formerly Squaw Creek) \, if they are coming down the Methow Hiway it is approx. 2 miles past the town of Methow and you take a right. Includes light snacks and beverages. **PACK TEST 1330\, BRING PACKS**Sign up for class!Location: Rains Trout Farm\, 122 Hunter Mtn. Rd\, PaterosClick here to pay for classesInstructor: Dave RainsContact Name : Danielle SimsContact Phone : 425-239-6613Contact Email : dsimswcfa@yahoo.com \n
URL:https://www.wcfafirefighters.org/event/RT-130-Annual-Refresher-762-1/
CATEGORIES:Training
END:VEVENT
END:VCALENDAR