BEGIN:VCALENDAR
VERSION:2.0
PRODID:-//Washington Contract Firefighters Association - ECPv4.8.1//NONSGML v1.0//EN
CALSCALE:GREGORIAN
METHOD:PUBLISH
X-WR-CALNAME:Washington Contract Firefighters Association
X-ORIGINAL-URL:https://www.wcfafirefighters.org
X-WR-CALDESC:Events for Washington Contract Firefighters Association
BEGIN:VEVENT
DTSTART;TZID=America/Los_Angeles:20180414T080000
DTEND;TZID=America/Los_Angeles:20180414T130000
DTSTAMP:20260422T191200
CREATED:20180210T090000Z
LAST-MODIFIED:20180606T011927Z
UID:90631-1523692800-1523710800@www.wcfafirefighters.org
SUMMARY:RT-130 Annual Refresher Grace Fellowship\, 14030 Sultan Basin Rd\, Sultan
DESCRIPTION:Annual Fireline Safety Refresher. Location is Grace Fellowship (formerly Hillcrest Baptist) Church\, 14030 Sultan Basin Road\, Sultan\, WA. Turn onto Sultan Basin Road and go .2 miles and it will be on the left. A pack test is going to be administered by John Schalo before this class. Please contact John at 360-708-8460 for more information and what is required. Sign up for class!Location: Grace Fellowship\, 14030 Sultan Basin Rd\, SultanClick here to pay for classesInstructor: Kevin CurfmanContact Name : Danielle SimsContact Phone : 425-239-6613Contact Email : dsimswcfa@yahoo.com \n
URL:https://www.wcfafirefighters.org/event/RT-130-Annual-Refresher-775-1/
CATEGORIES:Training
END:VEVENT
END:VCALENDAR