BEGIN:VCALENDAR
VERSION:2.0
PRODID:-//Washington Contract Firefighters Association - ECPv4.8.1//NONSGML v1.0//EN
CALSCALE:GREGORIAN
METHOD:PUBLISH
X-WR-CALNAME:Washington Contract Firefighters Association
X-ORIGINAL-URL:https://www.wcfafirefighters.org
X-WR-CALDESC:Events for Washington Contract Firefighters Association
BEGIN:VEVENT
DTSTART;TZID=America/Los_Angeles:20180610T080000
DTEND;TZID=America/Los_Angeles:20180610T130000
DTSTAMP:20260422T142354
CREATED:20180210T090000Z
LAST-MODIFIED:20180606T011927Z
UID:90632-1528617600-1528635600@www.wcfafirefighters.org
SUMMARY:RT-130 Annual Refresher Brother's Fire Shop 204 Industrial Ave\, Twisp\, WA
DESCRIPTION:Annual Fireline Safety Refresher. Please show courtesy to the local businesses in that location and have your students drive slowly. Sign up for class!Location: Brother’s Fire Shop 204 Industrial Ave\, Twisp\, WAClick here to pay for classesInstructor: James  HarterContact Name : Danielle SimsContact Phone : 425-239-6613Contact Email : dsimswcfa@yahoo.com \n
URL:https://www.wcfafirefighters.org/event/RT-130-Annual-Refresher-777-1/
CATEGORIES:Training
END:VEVENT
END:VCALENDAR