BEGIN:VCALENDAR
VERSION:2.0
PRODID:-//Washington Contract Firefighters Association - ECPv4.8.1//NONSGML v1.0//EN
CALSCALE:GREGORIAN
METHOD:PUBLISH
X-WR-CALNAME:Washington Contract Firefighters Association
X-ORIGINAL-URL:https://www.wcfafirefighters.org
X-WR-CALDESC:Events for Washington Contract Firefighters Association
BEGIN:VEVENT
DTSTART;TZID=America/Los_Angeles:20180213T080000
DTEND;TZID=America/Los_Angeles:20180213T130000
DTSTAMP:20260422T053002
CREATED:20180217T090000Z
LAST-MODIFIED:20180606T011927Z
UID:90653-1518508800-1518526800@www.wcfafirefighters.org
SUMMARY:RT-130 Annual Refresher Okanogan PUD\, Okanogan\, WA.
DESCRIPTION:Annual fireline safety refresher.Sign up for class!Location: Okanogan PUD\, Okanogan\, WA.Click here to pay for classesInstructor: Dave RainsContact Name : Danielle SimsContact Phone : 425-239-6613Contact Email : dsimswcfa@yahoo.com \n
URL:https://www.wcfafirefighters.org/event/RT-130-Annual-Refresher-784-1/
CATEGORIES:Training
END:VEVENT
END:VCALENDAR