BEGIN:VCALENDAR
VERSION:2.0
PRODID:-//Washington Contract Firefighters Association - ECPv4.8.1//NONSGML v1.0//EN
CALSCALE:GREGORIAN
METHOD:PUBLISH
X-WR-CALNAME:Washington Contract Firefighters Association
X-ORIGINAL-URL:https://www.wcfafirefighters.org
X-WR-CALDESC:Events for Washington Contract Firefighters Association
BEGIN:VEVENT
DTSTART;TZID=America/Los_Angeles:20180505T080000
DTEND;TZID=America/Los_Angeles:20180505T130000
DTSTAMP:20260422T052503
CREATED:20180606T011823Z
LAST-MODIFIED:20180606T011927Z
UID:90705-1525507200-1525525200@www.wcfafirefighters.org
SUMMARY:RT-130 Annual Refresher Okanogan PUD Auditorium 1331 2nd Ave\, Okanogan
DESCRIPTION:Annual Fireline Safety Refresher.Sign up for class!Location: Okanogan PUD Auditorium 1331 2nd Ave\, OkanoganClick here to pay for classesInstructor: Charlie CurtisContact Name : Danielle SimsContact Phone : 425-239-6613Contact Email : dsimswcfa@yahoo.com \n
URL:https://www.wcfafirefighters.org/event/RT-130-Annual-Refresher-794-1/
CATEGORIES:Training
END:VEVENT
END:VCALENDAR