BEGIN:VCALENDAR
VERSION:2.0
PRODID:-//Washington Contract Firefighters Association - ECPv4.8.1//NONSGML v1.0//EN
CALSCALE:GREGORIAN
METHOD:PUBLISH
X-WR-CALNAME:Washington Contract Firefighters Association
X-ORIGINAL-URL:https://www.wcfafirefighters.org
X-WR-CALDESC:Events for Washington Contract Firefighters Association
BEGIN:VEVENT
DTSTART;TZID=America/Los_Angeles:20180414T080000
DTEND;TZID=America/Los_Angeles:20180414T130000
DTSTAMP:20260422T220711
CREATED:20180606T011823Z
LAST-MODIFIED:20180606T011927Z
UID:90710-1523692800-1523710800@www.wcfafirefighters.org
SUMMARY:RT-130 Annual Refresher Davenport\, WA
DESCRIPTION:Annual Fireline Safe RefresherSign up for class!Location: Davenport\, WAClick here to pay for classesInstructor: Jacob BurkhartContact Name : Danielle SimsContact Phone : 425-239-6613Contact Email : dsimswcfa@yahoo.com \n
URL:https://www.wcfafirefighters.org/event/RT-130-Annual-Refresher-799-1/
CATEGORIES:Training
END:VEVENT
END:VCALENDAR