BEGIN:VCALENDAR
VERSION:2.0
PRODID:-//Washington Contract Firefighters Association - ECPv4.8.1//NONSGML v1.0//EN
CALSCALE:GREGORIAN
METHOD:PUBLISH
X-WR-CALNAME:Washington Contract Firefighters Association
X-ORIGINAL-URL:https://www.wcfafirefighters.org
X-WR-CALDESC:Events for Washington Contract Firefighters Association
BEGIN:VEVENT
DTSTART;TZID=America/Los_Angeles:20180428T070000
DTEND;TZID=America/Los_Angeles:20180428T120000
DTSTAMP:20260422T160737
CREATED:20180606T011823Z
LAST-MODIFIED:20180606T011927Z
UID:90711-1524898800-1524916800@www.wcfafirefighters.org
SUMMARY:RT-130 Annual Refresher Kevin Weed's Shop/13110 12th St. SE\, Lake Stevens
DESCRIPTION:Annual Fireline Safety Refresher.Sign up for class!Location: Kevin Weed’s Shop/13110 12th St. SE\, Lake StevensClick here to pay for classesInstructor: Kevin WeedContact Name : Danielle SimsContact Phone : 425-239-6613Contact Email : dsimswcfa@yahoo.com \n
URL:https://www.wcfafirefighters.org/event/RT-130-Annual-Refresher-800-1/
CATEGORIES:Training
END:VEVENT
END:VCALENDAR